BEGIN:VCALENDAR
VERSION:2.0
PRODID:-//Zoëland - ECPv6.15.20//NONSGML v1.0//EN
CALSCALE:GREGORIAN
METHOD:PUBLISH
X-ORIGINAL-URL:https://zoeland.org
X-WR-CALDESC:Events for Zoëland
REFRESH-INTERVAL;VALUE=DURATION:PT1H
X-Robots-Tag:noindex
X-PUBLISHED-TTL:PT1H
BEGIN:VTIMEZONE
TZID:Europe/Stockholm
BEGIN:DAYLIGHT
TZOFFSETFROM:+0100
TZOFFSETTO:+0200
TZNAME:CEST
DTSTART:20200329T010000
END:DAYLIGHT
BEGIN:STANDARD
TZOFFSETFROM:+0200
TZOFFSETTO:+0100
TZNAME:CET
DTSTART:20201025T010000
END:STANDARD
BEGIN:DAYLIGHT
TZOFFSETFROM:+0100
TZOFFSETTO:+0200
TZNAME:CEST
DTSTART:20210328T010000
END:DAYLIGHT
BEGIN:STANDARD
TZOFFSETFROM:+0200
TZOFFSETTO:+0100
TZNAME:CET
DTSTART:20211031T010000
END:STANDARD
BEGIN:DAYLIGHT
TZOFFSETFROM:+0100
TZOFFSETTO:+0200
TZNAME:CEST
DTSTART:20220327T010000
END:DAYLIGHT
BEGIN:STANDARD
TZOFFSETFROM:+0200
TZOFFSETTO:+0100
TZNAME:CET
DTSTART:20221030T010000
END:STANDARD
END:VTIMEZONE
BEGIN:VEVENT
DTSTART;VALUE=DATE:20211222
DTEND;VALUE=DATE:20211223
DTSTAMP:20260422T193430
CREATED:20211208T153801Z
LAST-MODIFIED:20211213T141246Z
UID:29818-1640131200-1640217599@zoeland.org
SUMMARY:Free Holiday Gift from Zoë Devi
DESCRIPTION:Sign up for the Newsletter before December 22 and get a Free Holiday Gift from Zoë Devi! Sign up here: www.zoeland.org
URL:https://zoeland.org/event/free-holiday-gift-from-zoe-devi/
CATEGORIES:Cosmic Language
ATTACH;FMTTYPE=image/jpeg:https://s3.amazonaws.com/zoeland.org/2021/12/julklapp.jpg
ORGANIZER;CN="Zo%C3%ABland":MAILTO:contact@zoeland.org
END:VEVENT
END:VCALENDAR